{"text_format":"1","workbook":"xlsx","n_sheets":4,"sheets":["交換形LED","DATA","ｸﾞﾗﾌ","Sheet1"],"not_rendered":{"charts":1,"images":29,"macros":1,"external_links":0,"defined_names":44,"comments":0,"pivot_tables":0},"unopened":[],"bounds":{"document_bytes":16777216,"sheet_cells":100000,"rows_first":2000,"rows_last":500,"rows_between":2000,"halvings":0,"cell_chars":16384,"cell_head_chars":4096},"cells_cut":0,"cells_raw":0,"read":"whole","date_system":"1900"}

{"sheet":"交換形LED","index":0,"n_rows":75,"n_cols":12,"rows_kept":75,"cut":false,"hidden":false,"merged":[[39,8,39,9],[18,6,21,7],[24,6,24,7],[28,6,28,7],[45,2,45,3],[34,0,34,1],[34,6,34,7],[11,6,12,6],[17,6,17,7],[14,0,14,1],[26,0,26,1],[17,0,17,1],[18,0,21,1],[26,6,26,7],[11,0,12,1],[16,6,16,7],[30,6,30,7],[32,6,32,7],[15,6,15,7],[14,6,14,7],[10,8,10,9],[10,10,10,11],[10,2,13,5],[32,0,32,1],[24,0,24,1],[16,0,16,1],[15,0,15,1],[30,0,30,1],[28,0,28,1],[16,10,16,11],[0,0,0,11],[9,6,9,7],[9,0,9,1],[2,0,2,5],[2,6,2,11],[1,0,1,11],[7,0,8,1],[7,2,8,5],[7,6,8,7],[7,8,8,11],[4,1,5,4],[53,4,55,4],[36,4,36,5],[38,0,38,1],[38,6,38,7],[36,0,36,1],[36,6,36,7],[38,4,38,5],[52,2,52,3]]}
["省エネ計算ツール【交換形ＬＥＤベース器具(高効率･連続調光形)】"]
["従来の蛍光灯器具と交換形ＬＥＤベース器具（高効率・連続調光形)の省エネ試算ができます。"]
["従来の蛍光灯器具",null,null,null,null,null,"交換形ＬＥＤベース器具(高効率･連続調光形)"]
["■従来の蛍光灯器具を選んでください。↓（枠内から選択）",null,null,null,null,null,"■おすすめの交換形ＬＥＤベース器具です。"]
[null,"▼",null,null,null,null,"特長","●ＬＥＤ光源ユニットが交換可能"]
[null,null,null,null,null,"※1",null,"　　用途に合わせて明るさ・光色を変更可能"]
["　★(H)タイプを選択すると高照度タイプの交換型LED器具が選択できます。",null,null,null,null,null,null,"●日立独自の「らくづけバネ」でかんたん取り付け"]
["品　　名",null,{"$f":"IF((VLOOKUP(品名,DATA!$A$4:$AD$57,1,0))=\"▼\",\"\",VLOOKUP(品名,DATA!$A$4:$AD$57,1,0))","v":""},null,null,null,"品　　名",null,{"$f":"IF((VLOOKUP(品名,DATA!$A$4:$AD$57,18,0))=\"\",\"\",VLOOKUP(品名,DATA!$A$4:$AD$57,18,0))","v":""}]
[]
["形　　式",null,{"$f":"IF(VLOOKUP(品名,DATA!$A$4:$AD$57,2,0)=\"\",\"\",(VLOOKUP(品名,DATA!$A$4:$AD$57,2,0)))","v":""},null,null,null,"形　　式",null,{"$f":"IF(VLOOKUP(品名,DATA!$A$4:$AD$57,19,0)=\"\",\"\",VLOOKUP(品名,DATA!$A$4:$AD$57,19,0))","v":""}]
[null,null,"-",null,null,null,null,null,"<価格（税別）>",null,"<購入価格(税別)>※2"]
["価　格\n（税別）",null,null,null,null,null,"価　格\n（税別）","器具",{"$f":"IF((VLOOKUP(品名,DATA!$A$4:$AD$57,22,0))=\"\",0,VLOOKUP(品名,DATA!$A$4:$AD$57,22,0))","v":0}," 円",0," 円"]
[null,null,null,null,null,null,null,"光源ﾕﾆｯﾄ",{"$f":"IF((VLOOKUP(品名,DATA!$A$4:$AD$57,23,0))=\"\",0,VLOOKUP(品名,DATA!$A$4:$AD$57,23,0))","v":0}," 円",0," 円"]
[null,null,null,null,null,null,null,"合計",{"$f":"SUM(I12:I13)","v":0}," 円",{"$f":"SUM(K12:K13)","v":0}," 円"]
["全光束 ※3",null,{"$f":"IF((VLOOKUP(品名,DATA!$A$4:$AD$57,11,0))=\"\",\"\",VLOOKUP(品名,DATA!$A$4:$AD$57,11,0))","v":""}," lm",null,null,"器具光束 ※4",null,{"$f":"IF((VLOOKUP(品名,DATA!$A$4:$AD$57,28,0))=\"\",\"\",VLOOKUP(品名,DATA!$A$4:$AD$57,28,0))","v":""}," lm"]
["定格消費電力 ※5",null,{"$f":"IF((VLOOKUP(品名,DATA!$A$4:$AD$57,8,0))=\"\",\"\",VLOOKUP(品名,DATA!$A$4:$AD$57,8,0))","v":""}," W",{"$f":"IF((VLOOKUP(品名,DATA!$A$4:$AD$57,13,0))=\"\",\"\",VLOOKUP(品名,DATA!$A$4:$AD$57,13,0))","v":""},{"$f":"IF((VLOOKUP(品名,DATA!$A$4:$AD$57,9,0))=\"\",\"\",VLOOKUP(品名,DATA!$A$4:$AD$57,9,0))","v":""},"定格消費電力 ※5",null,{"$f":"IF((VLOOKUP(品名,DATA!$A$4:$AD$57,25,0))=\"\",\"\",VLOOKUP(品名,DATA!$A$4:$AD$57,25,0))","v":""}," W",{"$f":"IF((VLOOKUP(品名,DATA!$A$4:$AD$57,30,0))=\"\",\"\",VLOOKUP(品名,DATA!$A$4:$AD$55,30,0))","v":""},{"$f":"IF((VLOOKUP(品名,DATA!$A$4:$AD$57,26,0))=\"\",\"\",VLOOKUP(品名,DATA!$A$4:$AD$57,26,0))","v":""}]
["消費効率",null,{"$f":"IF(C15=\"\",\"\",ROUND(C15/C16,1))","v":""}," lm/W",null,null,"消費効率",null,{"$f":"IF(I15=\"\",\"\",ROUNDDOWN(I15/I16,1))","v":""}," lm/W","固有エネルギー消費効率"]
["ランプ定格寿命",null,{"$f":"IF((VLOOKUP(品名,DATA!$A$4:$AD$57,10,0))=\"\",\"\",VLOOKUP(品名,DATA!$A$4:$AD$57,10,0))","v":""}," 時間",null,null,"光束維持時間 ※6",null,{"$f":"IF((VLOOKUP(品名,DATA!$A$4:$AD$57,27,0))=\"\",\"\",VLOOKUP(品名,DATA!$A$4:$AD$57,27,0))","v":""}," 時間"]
["外観",null,null,null,null,null,"外観"]
[]
[]
[]
["■試算条件を入力ください。（枠内に入力ください）",null,null,null,null,null,"■試算条件を入力ください。（枠内に入力ください）"]
[]
["　使用台数",null,1," 台",null,null,"　使用台数",null,1," 台"]
[]
["　電力料金 ※7",null,31," 円/kWh(税込)","＊任意に変更ができます。",null,"　電力料金 ※8",null,{"$f":"C27","v":31}," 円/kWh(税込)"]
[]
["　1日の点灯時間",null,10," 時間/日",null,null,"　1日の点灯時間",null,{"$f":"C29","v":10}," 時間/日"]
[]
["　年間使用日数",null,300," 日/年　",null,null,"　年間使用日数",null,{"$f":"C31","v":300}," 日/年"]
[]
["　年間点灯時間",null,{"$f":"C29*C31","v":3000}," 時間/年　　※8",null,null,"　年間点灯時間",null,{"$f":"I29*I31","v":3000}," 時間/年"]
[]
["　年間消費電力",null,{"$f":"IF(C16=\"\",0,IF(F16=\"\",C16*C25*C33/1000,F16*C25*C33/1000))","v":0}," kWh/年",null,null,"　年間消費電力",null,{"$f":"IF(I16=\"\",0,IF(L16=\"\",I16*I25*I33/1000,L16*I25*I33/1000))","v":0}," kWh/年"]
[]
["　ランニングコスト",null,{"$f":"IFERROR($C$16*$C$25*$C$27*$C$33/1000,\"\")","v":""}," 円/年(税込)",null,null,"　ランニングコスト",null,{"$f":"IFERROR($I$16*$I$25*$I$27*$I$33/1000,\"\")","v":""}," 円/年(税込)",null,{"$f":"IF(OR(K37=\"-\",K37=0),\"\",IF(K37<0,\"低減\",\"アップ\"))","v":""}]
["　　＊ランニングコスト＝年間電力費"]
["　消費税率",null,10,"％",null,null,"　イニシャルコスト",null,{"$f":"IF(I14=0,0,IF(K14=0,I14*I25,K14*I25))*((100+$C$39)/100)","v":0}," 円（税込）",null,{"$f":"IF(OR(K39=\"-\",K39=0),\"\",IF(K39<0,\"低減\",\"アップ\"))","v":""}]
[null,null,null,null,null,null,null,null,{"$f":"IF(I14=0,\"\",IF(K14=0,\"●積算見積価格の試算です！\",\"●購入価格の試算です！\"))","v":""}]
[]
[]
[]
["■試算結果（税込価格での試算になります）"]
["　【結果１】　ランニングコスト比較"]
[null,null,"ランニングコスト(税込)",null,"比較"]
[null,"蛍光灯",{"$f":"IF(C37=\"\",0,ROUND(C37,0))","v":0}," 円/年",{"$f":"IF(C47=0,\"-\",100%)","v":"-"}]
[null,"ＬＥＤ",{"$f":"IF(I37=\"\",0,ROUND(I37,0))","v":0}," 円/年",{"$f":"IF(OR(C47=0,C48=0),\"-\",IF((C48/C47)<0,ROUNDDOWN((C48/C47),2),ROUNDUP((C48/C47),2)))","v":"-"}]
[null,"差額",{"$f":"C48-C47","v":0}," 円/年",{"$f":"IF(OR(C47=0,C49=0),\"-\",IF((C49/C47)<0,ROUNDDOWN((C49/C47),2),ROUNDUP((C49/C47),2)))","v":"-"}]
[null,{"$f":"IF(OR(C49=0,C49>0),\"\",\"●ＬＥＤなら年間 \"&TEXT(-C49,\"#,##0\")&\"円 お得です！\")","v":""},null,null,null,null,null,null,null,0]
[]
["　【結果２】　イニシャルコスト比較（設備費用）と設備償却"]
[null,null,"イニシャルコスト(税込)",null,"設備償却"]
[null,"蛍光灯",{"$f":"IF(C38=\"\",0,ROUND(C38,0))","v":0}," 円",{"$f":"IF(OR($C$37=0,$I$37=0,$C$56=0),\"-\",IF(($C$39-$I$39)/-($C$37-$I$37)<0,\"-\",ROUNDUP(($C$39-$I$39)/-($C$37-$I$37),1)))","v":"-"}]
[null,"ＬＥＤ",{"$f":"IF(I39=\"\",0,ROUND(I39,0))","v":0}," 円"]
[null,"差額",{"$f":"IF(C54=\"\",0,C55-C54)","v":0}," 円",null,"＊設備償却=イニシャルコスト差額÷ランニングコスト差額"]
["　＊イニシャルコストの償却期間は、従来の照明器具費とＬＥＤ照明器具費の差額を、ランニングコストの差額で割り試算しています。　試算条件によっては、"]
["　　「一般社団法人日本照明工業会 ガイド111」による適正交換時期や耐用の限度を超える場合がありますが、寿命を保証するものではありません。"]
[]
["※1 従来の蛍光灯器具を選択すると、同等の明るさのLED照明器具と比較できます。"]
["      明るさ（照度 lx：ルクス）は、照明設計条件により異なりますので、明るさを保証するものではありません。"]
["※2 購入価格(税別)を入力すると購入価格(税込)での試算となります。『クリア』ボタンでリセットされます。"]
["※3 全光束は省エネ法のエネルギー消費効率測定方法による、蛍光灯照明器具に装着したランプから出る光の量（lm：ルーメン）を示します。"]
["※4 器具光束はLED照明器具から放出される光の量（lm：ルーメン）を示します。　明るさ（照度 lx：ルクス）の比較は、照明計算によります。"]
["※5 定格消費電力、平均消費電力は入力電圧200V時の値です。　照度補正形は平均消費電力（照度補正による電力変化の平均値）で試算しています。"]
["※6 光束維持時間はLED単体で定められた温度設計に基づいて算出した設計寿命であり、使用環境・使用方法により寿命は異なります。 また、LEDモジュール"]
["      としての寿命であり、照明器具としての寿命は他の光源を使用した場合と同様の8～10年です。 LEDモジュールのみの交換はできません。"]
["※7 年間電力費は電力料金単価31円/kWh（税込）を初期値として計算しています（一般社団法人日本照明工業会 ガイド A139-2024による）。　"]
["※8 年間点灯時間は3,000時間/年を初期値としています（一般社団法人日本照明工業会 ガイド A139-2024「事務所･工場(一般)･店舗」の点灯時間）。　"]
[]
[]
[null,null,null,null,null,null,null,null,null,null,null,"2025年7月版"]
[null,null,{"$f":"VLOOKUP(品名,DATA!$A$4:$AD$57,3,0)","v":"KUHAKU"},null,null,null,null,null,{"$f":"VLOOKUP(品名,DATA!$A$4:$AD$57,20,0)","v":"KUHAKULED"}]
[]
[null,"非表示「列」「行」の選択は「ｃｔｒｌ」＋「ｓｈｉｆｔ」＋「矢印キー」"]

{"sheet":"DATA","index":1,"n_rows":67,"n_cols":31,"rows_kept":67,"cut":false,"hidden":true,"merged":[[1,17,1,29],[1,0,1,15]]}
["【DATE】"]
["従来器具",null,null,null,null,null,null,null,null,null,null,null,null,null,null,null,null,"提案ＬＥＤ器具"]
["従来品名","表示形式","従来形式","従来画像","従来器具","従来ランプ","合計","定格消費電力","平均消費電力","定格寿命","全光束","消費効率","照度補正の場合","灯数","交換費@","ランプ@",null,"提案ＬＥＤ","提案表示形式","提案形式","提案画像","器具","ランプ","合計","定格消費電力","平均消費電力","定格寿命","定格光束","消費効率","照度補正の場合"]
["▼",null,"KUHAKU",null,null,null,null,null,null,null,null,null,null,null,null,null,null,null,null,"KUHAKULED",null,null,null,null,null,null,null,null,null,null,"※消費効率を小数点１位以下切捨てに変更（2015/7）"]
["FHF32W2灯 定格出力(H) 逆富士形(幅160mm)","HNM4205V-MEN14","HNM4205VMEN14",null,12500,2800,{"$f":"SUM(E5:F5)","v":15300},65,null,12000,6690,{"$f":"K5/H5","v":102.92307692307692},null,2,200,{"$f":"F5/N5","v":1400},null,"LED40形（FHF32形2灯定格出力(H) 昼白色）\n 逆富士形（幅160mm） [高効率]連続調光形","NC4A1+CE405NG-X14A","NC4A1",null,3450,32600,{"$f":"SUM(V5:W5)","v":36050},26.8,null,40000,5200,{"$f":"ROUNDDOWN(AB5/Y5,1)","v":194}]
["FHF32W2灯 定格出力(H) 逆富士形(幅160mm)\n 照度補正形","HNM4205V-PKN14","HNM4205VP",null,17500,2800,20300,65,55,12000,6690,102.92307692307692,"平均消費電力",2,200,1400,null,"LED40形（FHF32形2灯定格出力(H) 昼白色）\n 逆富士形（幅160mm）[高効率] 連続調光形","NC4A1+CE405NG-X14A","NC4A1",null,3450,32600,{"$f":"SUM(V6:W6)","v":36050},26.8,null,40000,5200,194]
["FHF32W2灯 高出力 逆富士形(幅160mm)","HNM4205V-MEU14","HNM4205VMEU14",null,16500,2800,{"$f":"SUM(E7:F7)","v":19300},88,null,12000,9070,{"$f":"K7/H7","v":103.06818181818181},null,2,200,1400,null,"LED40形（FHF32形2灯高出力 昼白色）\n 逆富士形（幅160mm） [高効率]連続調光形","NC4A1+CE406NG-X14A","NC4A1",null,3450,35600,{"$f":"SUM(V7:W7)","v":39050},31.2,null,40000,6000,192.3]
["FHF32W2灯 高出力 逆富士形(幅160mm)\n 照度補正形","HNM4205V-PKU14","HNM4205VP",null,19500,2800,22300,88,75,12000,9350,106.25,"平均消費電力",2,200,1400,null,"LED40形（FHF32形2灯高出力 昼白色）\n 逆富士形（幅160mm） [高効率]連続調光形","NC4A1+CE406NG-X14A","NC4A1",null,3450,35600,{"$f":"SUM(V8:W8)","v":39050},31.2,null,40000,6000,192.3]
["FHF32W2灯 高出力(H) 逆富士形(幅160mm)","HNM4205V-MEU14","HNM4205VMEU14",null,16500,2800,{"$f":"SUM(E9:F9)","v":19300},88,null,12000,9070,{"$f":"K9/H9","v":103.06818181818181},null,2,200,1400,null,"LED40形（FHF32形2灯高出力(H) 昼白色）\n 逆富士形（幅160mm） [高効率]連続調光形","NC4A1+CE407NG-X14A","NC4A1",null,3450,36600,{"$f":"SUM(V9:W9)","v":40050},36.4,null,40000,7000,192.3]
["FHF32W2灯 高出力(H) 逆富士形(幅160mm)\n 照度補正形","HNM4205V-PKU14","HNM4205VP",null,19500,2800,{"$f":"SUM(E10:F10)","v":22300},88,75,12000,9350,{"$f":"K10/H10","v":106.25},"平均消費電力",2,200,1400,null,"LED40形（FHF32形2灯高出力(H) 昼白色）\n 逆富士形（幅160mm） [高効率]連続調光形","NC4A1+CE407NG-X14A","NC4A1",null,3450,36600,{"$f":"SUM(V10:W10)","v":40050},36.4,null,40000,7000,192.3]
["FHF32W2灯 定格出力(H) 逆富士形(幅200mm)","HNM4203V-MEN14","HNM4203VMEN14",null,12500,2800,{"$f":"SUM(E11:F11)","v":15300},65,null,12000,6690,102.92307692307692,null,2,200,1400,null,"LED40形（FHF32形2灯定格出力(H) 昼白色）\n 逆富士形（幅230mm） [高効率]連続調光形","NC4B1+CE405NG-X14A","NC4B1",null,3650,32600,{"$f":"SUM(V11:W11)","v":36250},26.8,null,40000,5200,194]
["FHF32W2灯 定格出力(H) 逆富士形(幅200mm)\n 照度補正形","HNM4203V-PKN14","HNM4203V",null,17500,2800,20300,65,55,12000,6690,102.92307692307692,"平均消費電力",2,200,1400,null,"LED40形（FHF32形2灯定格出力(H) 昼白色）\n 逆富士形（幅230mm） [高効率]連続調光形","NC4B1+CE405NG-X14A","NC4B1",null,3650,32600,36250,26.8,null,40000,5200,194]
["FHF32W2灯 高出力 逆富士形(幅200mm)　","HNM4203V-MEU14","HNM4203V",null,16500,2800,19300,88,null,12000,9350,106.25,null,2,200,1400,null,"LED40形（FHF32形2灯高出力 昼白色）\n 逆富士形（幅230mm） [高効率]連続調光形","NC4B1+CE406NG-X14A","NC4B1",null,3650,35600,{"$f":"SUM(V13:W13)","v":39250},31.2,null,40000,6000,192.3]
["FHF32W2灯 高出力 逆富士形(幅200mm)　\n 照度補正形","HNM4203V-PKU14","HNM4203V",null,19500,2800,22300,88,75,12000,9350,106.25,"平均消費電力",2,200,1400,null,"LED40形（FHF32形2灯高出力 昼白色）\n 逆富士形（幅230mm） [高効率]連続調光形","NC4B1+CE406NG-X14A","NC4B1",null,3650,35600,{"$f":"SUM(V14:W14)","v":39250},31.2,null,40000,6000,192.3]
["FHF32W2灯 高出力(H) 逆富士形(幅200mm)　","HNM4203V-MEU14","HNM4203V",null,16500,2800,{"$f":"SUM(E15:F15)","v":19300},88,null,12000,9350,106.25,null,2,200,1400,null,"LED40形（FHF32形2灯高出力(H) 昼白色）\n 逆富士形（幅230mm） [高効率]連続調光形","NC4B1+CE407NG-X14A","NC4B1",null,3650,36600,{"$f":"SUM(V15:W15)","v":40250},36.4,null,40000,7000,192.3]
["FHF32W2灯 高出力(H) 逆富士形(幅200mm)\n 照度補正形","HNM4203V-PKU14","HNM4203V",null,19500,2800,22300,88,75,12000,9350,106.25,"平均消費電力",2,200,1400,null,"LED40形（FHF32形2灯高出力(H) 昼白色）\n 逆富士形（幅230mm） [高効率]連続調光形","NC4B1+CE407NG-X14A","NC4B1",null,3650,36600,{"$f":"SUM(V16:W16)","v":40250},36.4,null,40000,7000,192.3]
["FHF32W2灯 定格出力(H) トラフ形","HPM4205V-MEN14","HPM4205VMEN14",null,9900,2800,{"$f":"SUM(E17:F17)","v":12700},65,null,12000,6690,102.92307692307692,null,2,200,1400,null,"LED40形（FHF32形2灯定格出力(H) 昼白色）\n トラフ形 [高効率]連続調光形","PC4A1+CE405NG-X14A","PC4A1",null,3450,32600,{"$f":"SUM(V17:W17)","v":36050},26.8,null,40000,5200,194]
["FHF32W2灯 定格出力(H) トラフ形\n 照度補正形","HPM4205V-PKN14","HPM4205V",null,15000,2800,17800,65,55,12000,6690,102.92307692307692,"平均消費電力",2,200,1400,null,"LED40形（FHF32形2灯定格出力(H) 昼白色）\n トラフ形 [高効率]連続調光形","PC4A1+CE405NG-X14A","PC4A1",null,3450,32600,36050,26.8,null,40000,5200,194]
["FHF32W2灯 高出力 トラフ形","HPM4205V-MEU14","HPM4205V",null,14000,2800,16800,88,null,12000,9350,106.25,null,2,200,1400,null,"LED40形（FHF32形2灯高出力 昼白色）\n トラフ形 [高効率]連続調光形","PC4A1+CE406NG-X14A","PC4A1",null,3450,35600,{"$f":"SUM(V19:W19)","v":39050},31.2,null,40000,6000,192.3]
["FHF32W2灯 高出力 トラフ形\n 照度補正形","HPM4205V-PKU14","HPM4205V",null,17000,2800,19800,88,75,12000,9350,106.25,"平均消費電力",2,200,1400,null,"LED40形（FHF32形2灯高出力 昼白色）\n トラフ形 [高効率]連続調光形","PC4A1+CE406NG-X14A","PC4A1",null,3450,35600,{"$f":"SUM(V20:W20)","v":39050},31.2,null,40000,6000,192.3]
["FHF32W2灯 高出力(H) トラフ形","HPM4205V-MEU14","HPM4205V",null,14000,2800,{"$f":"SUM(E21:F21)","v":16800},88,null,12000,9350,106.25,null,2,200,1400,null,"LED40形（FHF32形2灯高出力(H) 昼白色）\n トラフ形 [高効率]連続調光形","PC4A1+CE407NG-X14A","PC4A1",null,3450,36600,{"$f":"SUM(V21:W21)","v":40050},36.4,null,40000,7000,192.3]
["FHF32W2灯 高出力(H) トラフ形\n 照度補正形","HPM4205V-PKU14","HPM4205V",null,17000,2800,19800,88,75,12000,9350,106.25,"平均消費電力",2,200,1400,null,"LED40形（FHF32形2灯高出力(H) 昼白色）\n トラフ形 [高効率]連続調光形","PC4A1+CE407NG-X14A","PC4A1",null,3450,36600,{"$f":"SUM(V22:W22)","v":40050},36.4,null,40000,7000,192.3]
["FHF32W2灯 定格出力(H) 笠付形","HNK4205V-MEN14","HNK4205VMEN14",null,10100,2800,{"$f":"SUM(E23:F23)","v":12900},65,null,12000,6690,102.92307692307692,null,2,200,1400,null,"LED40形（FHF32形2灯定格出力 昼白色）\n 笠付形 [高効率]連続調光形","PC4B1+CE405NG-X14A","PC4B1",null,4000,32600,{"$f":"SUM(V23:W23)","v":36600},26.8,null,40000,5100,190.2]
["FHF32W2灯 定格出力(H) 笠付形\n 照度補正形","HNK4205V-PKN14","HNK4205VP",null,17500,2800,20300,65,55,12000,6690,102.92307692307692,"平均消費電力",2,200,{"$f":"F24/N24","v":1400},null,"LED40形（FHF32形2灯定格出力 昼白色）\n 笠付形 [高効率]連続調光形","PC4B1+CE405NG-X14A","PC4B1",null,4000,32600,36600,26.8,null,40000,5100,190.2]
["FHF32W2灯 高出力 笠付形","HNK4205V-MEU14","HNK4205VMEU14",null,14500,2800,17300,88,null,12000,9070,103.06818181818181,null,2,200,1400,null,"LED40形（FHF32形2灯高出力 昼白色）\n 笠付形 [高効率]連続調光形","PC4B1+CE406NG-X14A","PC4B1",null,4000,35600,{"$f":"SUM(V25:W25)","v":39600},31.2,null,40000,5890,188.7]
["FHF32W2灯 高出力 笠付形\n 照度補正形","HNK4205V-PKU14","HNK4205VP",null,19500,2800,22300,88,75,12000,9350,106.25,"平均消費電力",2,200,1400,null,"LED40形（FHF32形2灯高出力 昼白色）\n 笠付形　[高効率]連続調光形","PC4B1+CE406NG-X14A","PC4B1",null,4000,35600,{"$f":"SUM(V26:W26)","v":39600},31.2,null,40000,5890,188.7]
["FHF32W2灯 高出力(H) 笠付形","HNK4205V-MEU14","HNK4205VMEU14",null,14500,2800,17300,88,null,12000,9070,103.06818181818181,null,2,200,1400,null,"LED40形（FHF32形2灯高出力(H) 昼白色）\n 笠付形 [高効率]連続調光形","PC4B1+CE407NG-X14A","PC4B1",null,4000,36600,{"$f":"SUM(V27:W27)","v":40600},36.4,null,40000,6870,188.7]
["FHF32W2灯 高出力(H) 笠付形\n 照度補正形","HNK4205V-PKU14","HNK4205VP",null,19500,2800,22300,88,75,12000,9350,106.25,"平均消費電力",2,200,1400,null,"LED40形（FHF32形2灯高出力(H) 昼白色）\n 笠付形　[高効率]連続調光形","PC4B1+CE407NG-X14A","PC4B1",null,4000,36600,{"$f":"SUM(V28:W28)","v":40600},36.4,null,40000,6870,188.7]
["FHF32W2灯 定格出力(H) 直付開放形","HNM4223V-EN14","HNM4223V",null,18000,2800,20800,65,null,12000,6690,102.92307692307692,null,2,200,1400,null,"LED40形（FHF32形2灯定格出力(H) 昼白色）\n 直付開放形 [高効率]連続調光形","NC4C1+CE405NG-X14A","NC4C1",null,9700,32600,{"$f":"SUM(V29:W29)","v":42300},26.8,null,40000,5060,188.8]
["FHF32W2灯 定格出力(H) 直付開放形\n 照度補正形","HNM4223V-PKN14","HNM4223V",null,23100,2800,25900,65,55,12000,6650,102.30769230769231,"平均消費電力",2,200,1400,null,"LED40形（FHF32形2灯定格出力(H) 昼白色）\n 直付開放形 [高効率]連続調光形","NC4C1+CE405NG-X14A","NC4C1",null,9700,32600,42300,26.8,null,40000,5060,188.8]
["FHF32W2灯 高出力 直付開放形","HNM4223V-EU14","HNM4223V",null,22100,2800,24900,86,null,12000,9120,106.04651162790698,null,2,200,1400,null,"LED40形（FHF32形2灯高出力 昼白色）\n 直付開放形 [高効率]連続調光形","NC4C1+CE406NG-X14A","NC4C1",null,9700,35600,{"$f":"SUM(V31:W31)","v":45300},31.2,null,40000,5840,187.1]
["FHF32W2灯 高出力 直付開放形\n 照度補正形","HNM4223V-PKU14","HNM4223V",null,25100,2800,27900,86,73,12000,9120,106.04651162790698,"平均消費電力",2,200,1400,null,"LED40形（FHF32形2灯高出力 昼白色）\n 直付開放形 [高効率]連続調光形","NC4C1+CE406NG-X14A","NC4C1",null,9700,35600,{"$f":"SUM(V32:W32)","v":45300},31.2,null,40000,5840,187.1]
["FHF32W2灯 高出力(H) 直付開放形","HNM4223V-EU14","HNM4223V",null,22100,2800,24900,86,null,12000,9120,106.04651162790698,null,2,200,1400,null,"LED40形（FHF32形2灯高出力(H) 昼白色）\n 直付開放形 [高効率]連続調光形","NC4C1+CE407NG-X14A","NC4C1",null,9700,36600,{"$f":"SUM(V33:W33)","v":46300},36.4,null,40000,6820,187.3]
["FHF32W2灯 高出力(H) 直付開放形\n 照度補正形","HNM4223V-PKU14","HNM4223V",null,25100,2800,27900,86,73,12000,9120,106.04651162790698,"平均消費電力",2,200,1400,null,"LED40形（FHF32形2灯高出力(H) 昼白色）\n 直付開放形 [高効率]連続調光形","NC4C1+CE407NG-X14A","NC4C1",null,9700,36600,{"$f":"SUM(V34:W34)","v":46300},36.4,null,40000,6820,187.3]
["FHF32W2灯 定格出力(H) 埋込開放形\n(Cﾁｬﾝﾈﾙ回避)","HTM4232V-EN14","HTM4232VEN14",null,17000,2800,19800,65,null,12000,6650,102.30769230769231,null,2,200,1400,null,"LED40形（FHF32形2灯定格出力(H) 昼白色）\n 埋込開放形（Cﾁｬﾝ回避） [高効率]連続調光形","TC4B1+CET405NG-X14A","TC4B",null,12100,32600,{"$f":"SUM(V35:W35)","v":44700},26.8,null,40000,5060,188.8]
["FHF32W2灯 定格出力(H) 埋込開放形\n(Cﾁｬﾝﾈﾙ回避) 照度補正形","HTM4232V-PKN14","HTM4232V",null,22600,2800,25400,65,55,12000,6650,102.30769230769231,"平均消費電力",2,200,1400,null,"LED40形（FHF32形2灯定格出力(H) 昼白色）\n 埋込開放形（Cﾁｬﾝ回避）[高効率] 連続調光形","TC4B1+CET405NG-X14A","TC4B",null,12100,32600,44700,26.8,null,40000,5060,188.8]
["FHF32W2灯 高出力 埋込開放形\n(Cﾁｬﾝﾈﾙ回避)","HTM4232V-EU14","HTM4232V",null,21600,2800,24400,86,null,12000,8970,{"$f":"K37/H37","v":104.30232558139535},null,2,200,1400,null,"LED40形（FHF32形2灯高出力 昼白色）\n 埋込開放形（Cﾁｬﾝ回避） [高効率]連続調光形","TC4B1+CET406NG-X14A","TC4B",null,12100,35600,{"$f":"SUM(V37:W37)","v":47700},31.2,null,40000,5840,187.1]
["FHF32W2灯 高出力 埋込開放形\n(Cﾁｬﾝﾈﾙ回避) 照度補正形","HTM4232V-PKU14","HTM4232V",null,24600,2800,27400,86,73,12000,8970,104.30232558139535,"平均消費電力",2,200,1400,null,"LED40形（FHF32形2灯高出力 昼白色）\n 埋込開放形（Cﾁｬﾝ回避） [高効率]連続調光形","TC4B1+CET406NG-X14A","TC4B",null,12100,35600,{"$f":"SUM(V38:W38)","v":47700},31.2,null,40000,5840,187.1]
["FHF32W2灯 高出力(H) 埋込開放形\n(Cﾁｬﾝﾈﾙ回避)","HTM4232V-EU14","HTM4232V",null,21600,2800,{"$f":"SUM(E39:F39)","v":24400},86,null,12000,8970,104.30232558139535,null,2,200,1400,null,"LED40形（FHF32形2灯高出力(H) 昼白色）\n 埋込開放形（Cﾁｬﾝ回避） [高効率]連続調光形","TC4B1+CET407NG-X14A","TC4B",null,12100,36600,{"$f":"SUM(V39:W39)","v":48700},36.4,null,40000,6810,187]
["FHF32W2灯 高出力(H) 埋込開放形\n(Cﾁｬﾝﾈﾙ回避) 照度補正形","HTM4232V-PKU14","HTM4232V",null,24600,2800,27400,86,73,12000,8970,104.30232558139535,"平均消費電力",2,200,1400,null,"LED40形（FHF32形2灯高出力(H) 昼白色）\n 埋込開放形（Cﾁｬﾝ回避）[高効率] 連続調光形","TC4B1+CET407NG-X14A","TC4B",null,12100,36600,{"$f":"SUM(V40:W40)","v":48700},36.4,null,40000,6810,187]
["FHF32W2灯 定格出力(H) 埋込開放形","HTM4201V-MEN14","HTM4201V",null,23200,2800,{"$f":"SUM(E41:F41)","v":26000},65,null,12000,6690,102.92307692307692,null,2,200,1400,null,"LED40形（FHF32形2灯定格出力(H) 昼白色）\n 埋込開放形（ﾀﾞｸﾄ回避） [高効率]連続調光形","TC4C1+CET405NG-X14A","TC4C",null,10600,32600,{"$f":"SUM(V41:W41)","v":43200},26.8,null,40000,4920,183.5]
["FHF32W2灯 高出力 埋込開放形","HTM4201V-MEU14","HTM4201V",null,26700,2800,29500,86,null,12000,9120,106.04651162790698,null,2,200,1400,null,"LED40形（FHF32形2灯高出力 昼白色）\n 埋込開放形（ﾀﾞｸﾄ回避）[高効率] 連続調光形","TC4C1+CET406NG-X14A","TC4C",null,10600,35600,{"$f":"SUM(V42:W42)","v":46200},31.2,null,40000,5680,182]
["FHF32W2灯 高出力(H) 埋込開放形","HTM4201V-MEU14","HTM4201V",null,26700,2800,{"$f":"SUM(E43:F43)","v":29500},86,null,12000,9120,106.04651162790698,null,2,200,1400,null,"LED40形（FHF32形2灯高出力(H) 昼白色）\n 埋込開放形（ﾀﾞｸﾄ回避） [高効率]連続調光形","TC4C1+CET407NG-X14A","TC4C",null,10600,36600,{"$f":"SUM(V43:W43)","v":47200},36.4,null,40000,6620,181.8]
["FLR110W2灯 ﾗﾋﾟｯﾄﾞ式 逆富士形","NM11208-DSC","NM11208DSC",null,32000,3600,{"$f":"SUM(E44:F44)","v":35600},225,null,12000,17520,77.86666666666666,null,2,800,1800,null,"LED110形（FHF86形2灯定格出力 昼白色）\n 逆富士形（幅230mm） [高効率]連続調光形","NC8B+CE812NG-X24A","NC8B",null,8600,66900,{"$f":"SUM(V44:W44)","v":75500},62.8,null,40000,12000,191]
["FHF86W2灯 定格出力 逆富士形","HNM11203V-EN24P","HNM11203V",null,36300,7200,{"$f":"SUM(E45:F45)","v":43500},171,null,12000,17480,102.22222222222223,null,2,800,3600,null,"LED110形（FHF86形2灯定格出力 昼白色）\n 逆富士形（幅230mm） [高効率]連続調光形","NC8B+CE812NG-X24A","NC8B",null,8600,66900,{"$f":"SUM(V45:W45)","v":75500},62.8,null,40000,12000,191]
["FHF86W2灯 定格出力(H) 逆富士形","HNM11203V-EN24P","HNM11203V",null,36300,7200,{"$f":"SUM(E46:F46)","v":43500},171,null,12000,17480,102.22222222222223,null,2,800,3600,null,"LED110形（FHF86形2灯定格出力 昼白色）\n 逆富士形（幅230mm） [高効率]連続調光形","NC8B+CE814NG-X24A","NC8B",null,8600,68400,77000,73.2,null,40000,14000,191.2]
["FHF86W2灯 定格出力 逆富士形\n 照度補正形","HNM11203V-PKN24P","HNM11203V",null,41300,7200,48500,171,145,12000,17480,102.22222222222223,"平均消費電力",2,800,3600,null,"LED110形（FHF86形2灯定格出力 昼白色）\n 逆富士形（幅230mm） [高効率]連続調光形","NC8B+CE812NG-X24A","NC8B",null,8600,66900,75500,62.8,null,40000,12000,191]
["FHF86W2灯 定格出力(H) 逆富士形\n 照度補正形","HNM11203V-PKN24P","HNM11203V",null,41300,7200,{"$f":"SUM(E48:F48)","v":48500},171,145,12000,17480,102.22222222222223,"平均消費電力",2,800,3600,null,"LED110形（FHF86形2灯定格出力 昼白色）\n 逆富士形（幅230mm） [高効率]連続調光形","NC8B+CE812NG-X24A","NC8B",null,8600,66900,75500,62.8,null,40000,14000,222.9]
["FLR110W2灯　ﾗﾋﾟｯﾄﾞ式　笠付形","PK11207-DSC","PK11207DSC",null,31800,3600,35400,225,null,12000,17520,77.86666666666666,null,2,800,1800,null,"LED110形（FHF86形2灯定格出力 昼白色）\n 笠付形 [高効率]連続調光形","PC8B+CE812NG-X24A","PC8B",null,9700,66900,76600,62.8,null,40000,11770,187.4]
["FHF86W2灯 定格出力 笠付形","HPK11208VB-EN24","HPK11208VBEN24",null,31800,7200,39000,171,null,12000,17460,102.10526315789474,null,2,800,3600,null,"LED110形（FHF86形2灯定格出力 昼白色）\n 笠付形 [高効率]連続調光形","PC8B+CE812NG-X24A","PC8B",null,9700,66900,76600,62.8,null,40000,11770,187.4]
["FHF86W2灯 定格出力 笠付形\n 照度補正形","HPK11208V-PKN24","HPK11208VPKN24",null,36800,7200,{"$f":"SUM(E51:F51)","v":44000},171,145,12000,17480,102.22222222222223,"平均消費電力",2,800,3600,null,"LED110形（FHF86形2灯定格出力 昼白色）\n 笠付形 [高効率]連続調光形","PC8B+CE812NG-X24A","PC8B",null,9700,66900,76600,62.8,null,40000,11770,187.4]
["FHF86W2灯 定格出力(H) 笠付形","HPK11208VB-EN24","HPK11208VBEN24",null,31800,7200,39000,171,null,12000,17460,102.10526315789474,null,2,800,3600,null,"LED110形（FHF86形2灯定格出力(H) 昼白色）\n 笠付形 [高効率]連続調光形","PC8B+CE814NG-X24A","PC8B",null,9700,68400,{"$f":"SUM(V52:W52)","v":78100},73.2,null,40000,13730,187.5]
["FHF86W2灯 定格出力(H) 笠付形\n 照度補正形","HPK11208V-PKN24","HPK11208VPKN24",null,36800,7200,44000,171,145,12000,17480,102.22222222222223,"平均消費電力",2,800,3600,null,"LED110形（FHF86形2灯定格出力(H) 昼白色）\n 笠付形 [高効率]連続調光形","PC8B+CE814NG-X24A","PC8B",null,9700,68400,78100,73.2,null,40000,13730,187.5]
["FHF86W2灯 定格出力 直付開放形","HNM11220V-EN24P","HNM11220V",null,42200,7200,49400,171,null,12000,17050,99.707602339181292,null,2,800,3600,null,"LED110形（FHF86形2灯定格出力 昼白色）\n 直付開放形 [高効率]連続調光形","NC8C+CE812NG-X24A","NC8C",null,18700,66900,{"$f":"SUM(V54:W54)","v":85600},62.8,null,40000,11690,186.1]
["FHF86W2灯 定格出力 直付開放形\n 照度補正形","HNM11220V-PKN24P","HNM11220V",null,47200,7200,54400,171,145,12000,17050,99.707602339181292,"平均消費電力",2,800,3600,null,"LED110形（FHF86形2灯定格出力 昼白色）\n 直付開放形 [高効率]連続調光形","NC8C+CE812NG-X24A","NC8C",null,18700,66900,85600,62.8,null,40000,11690,186.1]
["FHF86W2灯 定格出力(H) 直付開放形","HNM11220V-EN24P","HNM11220V",null,42200,7200,49400,171,null,12000,17050,99.707602339181292,null,2,800,{"$f":"F56/N56","v":3600},null,"LED110形（FHF86形2灯定格出力(H) 昼白色）\n 直付開放形 [高効率]連続調光形","NC8C+CE814NG-X24A","NC8C",null,18700,68400,87100,73.2,null,40000,13640,{"$f":"ROUNDDOWN(AB56/Y56,1)","v":186.3}]
["FHF86W2灯 定格出力(H) 直付開放形\n 照度補正形","HNM11220V-PKN24P","HNM11220V",null,47200,7200,54400,171,145,12000,17050,99.707602339181292,"平均消費電力",2,800,3600,null,"LED110形（FHF86形2灯定格出力(H) 昼白色）\n 直付開放形 [高効率]連続調光形","NC8C+CE814NG-X24A","NC8C",null,18700,68400,87100,73.2,null,40000,13640,186.3]
[]
[]
[null,null,"■2014年4月発行施設用カタログ(LL-809(H))掲載機種"]
[null,null,"　・朱記部分は、ランプ形式、全光束、エネルギー消費効率が変更となっているもの。"]
[]
[null,null,"（注）2014年4月発行施設用カタログ(LL-809(H))に掲載されていない機種の、ランプ形式、全光束、エネルギー消費効率は従来のままとする。"]
[]
[]
[null,null,"■従来のラピッド式器具との比較については、2014年10月発行LED照明総合カタログ(LL-816(H))の経済比較例に掲載されている下記機種に限定する。"]
[null,null,"（1）NM4203-DSC　：但し、本体価格（ランプ別）は、現行HNM4205MEN14と同一価格（\\12,500）となっている。（AS400では\\12,640）⇒カタログに合わせ\\12,500とする。（2014.10.15環商企）"]

{"sheet":"ｸﾞﾗﾌ","index":2,"n_rows":5,"n_cols":17,"rows_kept":5,"cut":false,"hidden":true,"merged":[]}
[]
[]
["使用年数",0,1,2,3,4,5,6,7,8,9,10,11,12,13,14,15]
["蛍光灯",0,{"$f":"IF(交換形LED!$C37=\"\",\"\",B4+交換形LED!$C37/10000)","v":""},{"$f":"IF(交換形LED!$C37=\"\",\"\",C4+交換形LED!$C37/10000)","v":""},{"$f":"IF(交換形LED!$C37=\"\",\"\",D4+交換形LED!$C37/10000)","v":""},{"$f":"IF(交換形LED!$C37=\"\",\"\",E4+交換形LED!$C37/10000)","v":""},{"$f":"IF(交換形LED!$C37=\"\",\"\",F4+交換形LED!$C37/10000)","v":""},{"$f":"IF(交換形LED!$C37=\"\",\"\",G4+交換形LED!$C37/10000)","v":""},{"$f":"IF(交換形LED!$C37=\"\",\"\",H4+交換形LED!$C37/10000)","v":""},{"$f":"IF(交換形LED!$C37=\"\",\"\",I4+交換形LED!$C37/10000)","v":""},{"$f":"IF(交換形LED!$C37=\"\",\"\",J4+交換形LED!$C37/10000)","v":""},{"$f":"IF(交換形LED!$C37=\"\",\"\",K4+交換形LED!$C37/10000)","v":""},{"$f":"IF(交換形LED!$C37=\"\",\"\",L4+交換形LED!$C37/10000)","v":""},{"$f":"IF(交換形LED!$C37=\"\",\"\",M4+交換形LED!$C37/10000)","v":""},{"$f":"IF(交換形LED!$C37=\"\",\"\",N4+交換形LED!$C37/10000)","v":""},{"$f":"IF(交換形LED!$C37=\"\",\"\",O4+交換形LED!$C37/10000)","v":""},{"$f":"IF(交換形LED!$C37=\"\",\"\",P4+交換形LED!$C37/10000)","v":""}]
["LED",{"$f":"IF(交換形LED!I39=\"\",\"\",交換形LED!I39/10000)","v":0},{"$f":"IF(交換形LED!$I37=\"\",\"\",B5+交換形LED!$I37/10000)","v":""},{"$f":"IF(交換形LED!$I37=\"\",\"\",C5+交換形LED!$I37/10000)","v":""},{"$f":"IF(交換形LED!$I37=\"\",\"\",D5+交換形LED!$I37/10000)","v":""},{"$f":"IF(交換形LED!$I37=\"\",\"\",E5+交換形LED!$I37/10000)","v":""},{"$f":"IF(交換形LED!$I37=\"\",\"\",F5+交換形LED!$I37/10000)","v":""},{"$f":"IF(交換形LED!$I37=\"\",\"\",G5+交換形LED!$I37/10000)","v":""},{"$f":"IF(交換形LED!$I37=\"\",\"\",H5+交換形LED!$I37/10000)","v":""},{"$f":"IF(交換形LED!$I37=\"\",\"\",I5+交換形LED!$I37/10000)","v":""},{"$f":"IF(交換形LED!$I37=\"\",\"\",J5+交換形LED!$I37/10000)","v":""},{"$f":"IF(交換形LED!$I37=\"\",\"\",K5+交換形LED!$I37/10000)","v":""},{"$f":"IF(交換形LED!$I37=\"\",\"\",L5+交換形LED!$I37/10000)","v":""},{"$f":"IF(交換形LED!$I37=\"\",\"\",M5+交換形LED!$I37/10000)","v":""},{"$f":"IF(交換形LED!$I37=\"\",\"\",N5+交換形LED!$I37/10000)","v":""},{"$f":"IF(交換形LED!$I37=\"\",\"\",O5+交換形LED!$I37/10000)","v":""},{"$f":"IF(交換形LED!$I37=\"\",\"\",P5+交換形LED!$I37/10000)","v":""}]

{"sheet":"Sheet1","index":3,"n_rows":0,"n_cols":0,"rows_kept":0,"cut":false,"hidden":true,"merged":[]}