{"text_format":"1","workbook":"xlsx","n_sheets":3,"sheets":["高天井用LED","DATA","ｸﾞﾗﾌ"],"not_rendered":{"charts":1,"images":17,"macros":1,"external_links":1,"defined_names":89,"comments":0,"pivot_tables":0},"unopened":[],"bounds":{"document_bytes":16777216,"sheet_cells":100000,"rows_first":2000,"rows_last":500,"rows_between":2000,"halvings":0,"cell_chars":16384,"cell_head_chars":4096},"cells_cut":0,"cells_raw":0,"read":"whole","date_system":"1900"}

{"sheet":"高天井用LED","index":0,"n_rows":75,"n_cols":12,"rows_kept":75,"cut":false,"hidden":false,"merged":[[10,0,14,1],[12,2,12,5],[40,0,40,1],[38,0,38,1],[38,4,38,5],[40,4,40,5],[34,0,34,1],[32,0,32,1],[36,0,36,1],[16,0,16,1],[30,0,30,1],[26,0,26,1],[28,0,28,1],[10,10,10,11],[15,0,15,1],[18,0,18,1],[15,6,15,7],[20,6,23,7],[17,6,17,7],[20,0,23,1],[19,0,19,1],[19,6,19,7],[18,6,18,7],[19,2,19,5],[17,10,17,11],[17,0,17,1],[10,6,14,7],[16,6,16,7],[10,4,10,5],[0,0,0,11],[9,6,9,7],[9,0,9,1],[2,0,2,5],[2,6,2,11],[4,1,5,4],[9,2,9,5],[7,6,8,7],[7,2,8,5],[7,8,8,11],[1,0,1,11],[7,0,8,1],[54,5,56,5],[10,8,10,9],[10,2,10,3],[40,6,40,7],[38,6,38,7],[28,6,28,7],[26,6,26,7],[30,6,30,7],[41,8,41,9],[47,2,47,3],[53,2,53,3],[32,6,32,7],[34,6,34,7],[36,6,36,7]]}
["省エネ計算ツール【高天井用ＬＥＤ器具】"]
["従来の高天井用器具と高天井用ＬＥＤ器具の省エネ試算ができます。目安としてご活用ください。"]
["従来の高天井用器具",null,null,null,null,null,"高天井用ＬＥＤ器具"]
["■従来の高天井用器具を選んでください。↓（枠内から選択）",null,null,null,null,null,"■おすすめの高天井用ＬＥＤ器具です。"]
[null,"水銀灯250W 高天井用器具\n(LED中角・初期照度補正形と比較)",null,null,null,"※1","特長","●ﾒﾀﾙﾊﾗｲﾄﾞﾗﾝﾌﾟ、水銀ﾗﾝﾌﾟと同等の明るさで大幅省ｴﾈ"]
[null,null,null,null,null,null,null,"●LED光源寿命 60,000時間 ※4"]
[null,null,null,null,null,null,null,"●瞬時点灯・瞬時再点灯"]
["品　　名",null,{"$f":"IF((VLOOKUP(品名,DATA!$A$4:$AK$19,1,0))=\"▼\",\"\",VLOOKUP(品名,DATA!$A$4:$AK$19,1,0))","v":"水銀灯250W 高天井用器具\n(LED中角・初期照度補正形と比較)"},null,null,null,"品　　名",null,{"$f":"IF((VLOOKUP(品名,DATA!$A$4:$AK$19,25,0))=\"\",\"\",VLOOKUP(品名,DATA!$A$4:$AK$19,25,0))","v":"水銀灯250ｸﾗｽ 高天井用LED器具\n中角(65度) 初期照度補正形"}]
[]
["形　　式",null,{"$f":"IF(VLOOKUP(品名,DATA!$A$4:$AK$19,2,0)=\"\",\"\",VLOOKUP(品名,DATA!$A$4:$AK$19,2,0))","v":"MK4011+MSN406+HF250X+2.5MHC25/26"},null,null,null,"形　　式",null,{"$f":"IF(VLOOKUP(品名,DATA!$A$4:$AK$19,26,0)=\"\",\"\",VLOOKUP(品名,DATA!$A$4:$AK$19,26,0))","v":"MTE11ANN-J14B"}]
["価 格\n（税抜）",null,null,null,null,null,"価 格\n（税抜）",null,"<積算見積価格>※2",null,"<購入価格で試算>※3"]
[]
[null,null,"－",null,null,null,null,null,{"$f":"IF((VLOOKUP(品名,DATA!$A$4:$AK$19,29,0))=\"\",0,VLOOKUP(品名,DATA!$A$4:$AK$19,29,0))","v":109400}," 円",0," 円"]
[]
[]
["ランプ光束 ※5",null,{"$f":"IF((VLOOKUP(品名,DATA!$A$4:$AK$19,14,0))=\"\",\"\",VLOOKUP(品名,DATA!$A$4:$AK$19,14,0))","v":12800}," lm",{"$f":"IF((VLOOKUP(品名,DATA!$A$4:$AK$19,6,0))=\"\",\"\",VLOOKUP(品名,DATA!$A$4:$AK$19,6,0))","v":"(HF250X)"},null,"定格光束 ※6",null,{"$f":"IF((VLOOKUP(品名,DATA!$A$4:$AK$19,34,0))=\"\",\"\",VLOOKUP(品名,DATA!$A$4:$AK$19,34,0))","v":11000}," lm"]
["定格消費電力 ※7",null,{"$f":"IF((VLOOKUP(品名,DATA!$A$4:$AK$19,12,0))=\"\",\"\",VLOOKUP(品名,DATA!$A$4:$AK$19,12,0))","v":260}," W",null,null,"定格消費電力 ※7",null,{"$f":"IF((VLOOKUP(品名,DATA!$A$4:$AK$19,31,0))=\"\",\"\",VLOOKUP(品名,DATA!$A$4:$AK$19,31,0))","v":63}," W",{"$f":"IF((VLOOKUP(品名,DATA!$A$4:$AK$19,37,0))=\"\",\"\",VLOOKUP(品名,DATA!$A$4:$AK$19,37,0))","v":"平均消費電力"},{"$f":"IF((VLOOKUP(品名,DATA!$A$4:$AK$19,32,0))=\"\",\"\",VLOOKUP(品名,DATA!$A$4:$AK$19,32,0))","v":57}]
["消費効率",null,{"$f":"IF(C16=\"\",\"\",ROUND(C16/C17,1))","v":49.2}," lm/W",null,null,"消費効率",null,{"$f":"IF(I16=\"\",\"\",ROUNDDOWN(I16/I17,1))","v":174.6}," lm/W","固有エネルギー消費効率"]
["ランプ寿命",null,{"$f":"IF((VLOOKUP(品名,DATA!$A$4:$AK$19,13,0))=\"\",\"\",VLOOKUP(品名,DATA!$A$4:$AK$19,13,0))","v":12000}," 時間",null,null,"ＬＥＤ光源寿命",null,{"$f":"IF((VLOOKUP(品名,DATA!$A$4:$AK$19,33,0))=\"\",\"\",VLOOKUP(品名,DATA!$A$4:$AK$19,33,0))","v":60000}," 時間"]
["質量",null,{"$f":"IF((VLOOKUP(品名,DATA!$A$4:$AK$19,21,0))=\"\",\"\",VLOOKUP(品名,DATA!$A$4:$AK$19,21,0))","v":"器具：1.16kg、ﾗﾝﾌﾟ：0.2kg、安定器：3.1kg、合計：4.46kg"},null,null,null,"質量",null,{"$f":"IF((VLOOKUP(品名,DATA!$A$4:$AK$19,36,0))=\"\",\"\",VLOOKUP(品名,DATA!$A$4:$AK$19,36,0))","v":3.2}," kg"]
["外観",null,null,null,null,null,"外観"]
[]
[]
[]
["■試算条件を入力ください。（枠内に入力ください）",null,null,null,null,null,"■試算条件を入力ください。（枠内に入力ください）"]
[]
["　使用台数",null,1," 台",null,null,"　使用台数",null,1," 台"]
[]
["　電力料金 ※8",null,28," 円/kWh","＊任意に変更ができます。",null,"　電力料金 ※8",null,{"$f":"C29","v":28}," 円/kWh"]
[]
["　1日の点灯時間",null,10," 時間/日",null,null,"　1日の点灯時間",null,{"$f":"C31","v":10}," 時間/日"]
[]
["　年間使用日数",null,300," 日/年",null,null,"　年間の使用日数",null,{"$f":"C33","v":300}," 日/年"]
[]
["　年間点灯時間",null,{"$f":"C31*C33","v":3000}," 時間/年　※9",null,null,"　年間点灯時間",null,{"$f":"I31*I33","v":3000}," 時間/年"]
[]
["　年間消費電力",null,{"$f":"IF(C17=\"\",0,C17*C35*C27/1000)","v":780}," kWh/年",null,null,"　年間消費電力",null,{"$f":"IF(I17=\"\",0,IF(L17=\"\",I17*I27*I35/1000,L17*I27*I35/1000))","v":171}," kWh/年"]
[]
["　ランニングコスト",null,{"$f":"C37*C29","v":21840}," 円/年",null,null,"　ランニングコスト",null,{"$f":"I37*I29","v":4788}," 円/年",{"$f":"IF(OR(C39=0,I39=0),\"-\",IF(((I39-C39)/C39)<0,ROUNDDOWN((I39-C39)/C39,2),ROUNDUP((I39-C39)/C39,2)))","v":-0.78},{"$f":"IF(OR(K39=\"-\",K39=0),\"\",IF(K39<0,\"低減\",\"アップ\"))","v":"低減"}]
["　（年間電力費）"]
[null,null,null,null,null,null,"　イニシャルコスト",null,{"$f":"IF(I13=\"\",0,IF(K13=0,I13*I27,K13*I27))","v":109400}," 円",null,{"$f":"IF(OR(K41=\"-\",K41=0),\"\",IF(K41<0,\"低減\",\"アップ\"))","v":""}]
[null,null,null,null,null,null,null,null,{"$f":"IF(I13=0,\"\",IF(K13=0,\"●積算見積価格の試算です！\",\"●購入価格の試算です！\"))","v":"●積算見積価格の試算です！"}]
[]
[]
[]
["■試算結果"]
["　【結果１】　ランニングコスト比較（年間電力費）"]
[null,null,"ランニングコスト",null,"比較"]
[null,"従来",{"$f":"IF(C39=\"\",0,ROUND(C39,0))","v":21840}," 円/年",{"$f":"IF(C49=0,\"-\",100%)","v":1}]
[null,"ＬＥＤ",{"$f":"IF(I39=\"\",0,ROUND(I39,0))","v":4788}," 円/年",{"$f":"IF(OR(C49=0,C50=0),\"-\",IF((C50/C49)<0,ROUNDDOWN((C50/C49),2),ROUNDUP((C50/C49),2)))","v":0.22}]
[null,"差額",{"$f":"C50-C49","v":-17052}," 円/年",{"$f":"IF(OR(C49=0,C51=0),\"-\",IF((C51/C49)<0,ROUNDDOWN((C51/C49),2),ROUNDUP((C51/C49),2)))","v":-0.78}]
[null,{"$f":"IF(OR(C51=0,C51>0),\"\",\"●ＬＥＤなら年間 \"&TEXT(-C51,\"#,##0\")&\"円 お得です！\")","v":"●ＬＥＤなら年間 17,052円 お得です！"}]
["　【結果２】　イニシャルコスト比較（設備費用）と設備償却"]
[null,null,"イニシャルコスト",null,"比較","設備償却"]
[null,"従来",{"$f":"IF(C41=\"\",0,ROUND(C41,0))","v":0}," 円",{"$f":"IF(C55=0,\"-\",100%)","v":"-"},{"$f":"IF(OR(C39=0,I39=0,C57=0),\"-\",IF((C41-I41)/-(C39-I39)<0,\"-\",ROUNDUP((C41-I41)/-(C39-I39),1)))","v":6.5}]
[null,"ＬＥＤ",{"$f":"IF(I41=\"\",0,ROUND(I41,0))","v":109400}," 円",{"$f":"IF(OR(C55=0,C56=0),\"-\",IF((C56/C55)<0,ROUNDDOWN((C56/C55),2),ROUNDUP((C56/C55),2)))","v":"-"}]
[null,"差額",{"$f":"IF(C55=\"\",0,C56-C55)","v":109400}," 円",{"$f":"IF(OR(C55=0,C57=0),\"-\",IF((C57/C55)<0,ROUNDDOWN((C57/C55),2),ROUNDUP((C57/C55),2)))","v":"-"},null,"＊設備償却=イニシャルコスト差額÷ランニングコスト差額"]
["　＊イニシャルコストの償却期間は、従来の照明器具費とＬＥＤ照明器具費の差額を、ランニングコストの差額で割り試算しています。　試算条件によっては、"]
["　　「一般社団法人日本照明工業会 ガイド111」による適正交換時期や耐用の限度を超える場合がありますが、寿命を保証するものではありません。"]
[]
["※1 従来の高天井器具を選択すると、おすすめのLED照明器具が表示されますが、明るさを保証するものではありません。"]
["      明るさ（照度 lx：ルクス）は、照明設計条件（光束、配光特性、設置条件、天井・壁・床の反射率、汚れ等）により異なりますので、照明計算によります。"]
["※2 積算見積価格は、事業者様向けの積算見積価格であり、一般消費者向けの販売価格ではありません。"]
["※3 購入価格を入力すると購入価格での試算となります。『クリア』ボタンでリセットされます。"]
["※4 LED光源寿命はLED単体で定められた温度設計に基づいて算出した設計寿命であり、使用環境・使用方法により寿命は異なります。 また、LEDモジュール"]
["      としての寿命であり、照明器具としての寿命は他の光源を使用した場合と同様の8～10年です。 LEDモジュールのみの交換はできません。"]
["※5 ランプ光束はランプ単体の全光束を示します。　ランプを装着した高天井器具から放出される光の量（lm：ルーメン）ではありません。"]
["※6 定格光束はLED照明器具から放出される光の量（lm：ルーメン）を示します。　明るさ（照度 lx：ルクス）の比較は、照明計算によります。"]
["※7 定格消費電力、平均消費電力は入力電圧200V時の値です。　照度補正形は平均消費電力（照度補正による電力変化の平均値）で試算しています。"]
["※8 年間電力費は電力料金単価28円/kWh（税抜）[一般社団法人日本照明工業会 ガイドA139-2023]を初期値として計算しています。　"]
["※9 年間点灯時間は3,000時間を初期値としています。[一般社団法人日本照明工業会 ガイドA139-2023　「事務所・工場（一般）・店舗」]　"]
[]
[]
[null,null,null,null,null,null,null,null,null,null,null,"2023年 4月版"]
[null,null,{"$f":"VLOOKUP(品名,DATA!$A$4:$AK$19,3,0)","v":"MK4011_HF250X_NJ"},null,null,null,null,null,{"$f":"VLOOKUP(品名,DATA!$A$4:$AK$19,27,0)","v":"MTE11ANNJ14B"}]

{"sheet":"DATA","index":1,"n_rows":34,"n_cols":38,"rows_kept":34,"cut":false,"hidden":true,"merged":[[1,24,1,36],[1,0,1,22]]}
["【DATE】"]
["従来器具",null,null,null,null,null,null,null,null,null,null,null,null,null,null,null,null,null,null,null,null,null,null,null,"提案ＬＥＤ器具"]
["従来品名","表示形式","従来形式","従来画像","表示器具","表示ランプ","表示安定器","従来器具","従来ランプ","従来安定器","合計価格","従来電力","定格寿命","ランプ光束","消費効率","質量合計","反射笠","ホルダ","ランプ","点灯装置","質量表示","照度補正の場合","交換費@",null,"提案ＬＥＤ","提案表示形式","提案形式","提案画像","器具",null,"消費電力","平均電力","定格寿命","定格光束","消費効率","質量","照度補正の場合"]
["▼",null,"KUHAKU",null,null,null,null,null,null,null,null,null,null,null,null,null,null,null,null,null,null,null,null,null,null,null,"KUHAKULED",null,null,null,null,null,null,null,null,null,null,"※消費効率の小数第１位以下切捨て（2015/7)"]
["水銀灯250W 高天井用器具\n(LED中角・初期照度補正形と比較)","MK4011+MSN406+HF250X+2.5MHC25/26","MK4011_HF250X_NJ",null,"MK4011+MSN406","(HF250X)","2.5MHC25/26",8500,4600,15400,{"$f":"SUM(H5:J5)","v":28500},260,12000,12800,{"$f":"N5/L5","v":49.230769230769234},{"$f":"SUM(Q5:T5)","v":4.46},0.46,0.7,0.2,3.1,"器具：1.16kg、ﾗﾝﾌﾟ：0.2kg、安定器：3.1kg、合計：4.46kg",null,1100,null,"水銀灯250ｸﾗｽ 高天井用LED器具\n中角(65度) 初期照度補正形","MTE11ANN-J14B","MTE11ANNJ14B",null,109400,null,63,57,60000,11000,{"$f":"ROUNDDOWN(AH5/AE5,1)","v":174.6},3.2,"平均消費電力"]
["水銀灯250W 高天井用器具\n(LED広角・初期照度補正形と比較)","MK4011+MSN406+HF250X+2.5MHC25/26","MK4011_HF250X_MJ",null,"MK4011+MSN406","(HF250X)","2.5MHC25/26",8500,4600,15400,28500,260,12000,12800,49.230769230769234,{"$f":"SUM(Q6:T6)","v":4.46},0.46,0.7,0.2,3.1,"器具：1.16kg、ﾗﾝﾌﾟ：0.2kg、安定器：3.1kg、合計：4.46kg",null,1100,null,"水銀灯250ｸﾗｽ 高天井用LED器具\n広角(90度) 初期照度補正形","MTE11AMN-J14B","MTE11AMNJ14B",null,109400,null,63,57,60000,11000,{"$f":"ROUNDDOWN(AH6/AE6,1)","v":174.6},3.2,"平均消費電力"]
["水銀灯250W 高天井用器具\n(LED特広角・初期照度補正形と比較)","MK4011+MSN406+HF250X+2.5MHC25/26","MK4011_HF250X_WJ",null,"MK4011+MSN406","(HF250X)","2.5MHC25/26",8500,4600,15400,28500,260,12000,12800,49.230769230769234,4.46,0.46,0.7,0.2,3.1,"器具：1.16kg、ﾗﾝﾌﾟ：0.2kg、安定器：3.1kg、合計：4.46kg",null,1100,null,"水銀灯250ｸﾗｽ 高天井用LED器具\n特広角(120度) 初期照度補正形","MTE11AWN-J14B","MTE11AWNJ14B",null,109400,null,63,57,60000,12000,190.4,3,"平均消費電力"]
["水銀灯400W 高天井用器具\n(LED中角・初期照度補正形と比較)","MK4011+MSN406+HF400X+4MHC25/26","MK4011_HF400X_NJ",null,"MK4011+MSN406","(HF400X)","4MHC25/26",8500,5850,20600,34950,415,12000,22000,53.012048192771083,{"$f":"SUM(Q8:T8)","v":5.43},0.46,0.7,0.27,4,"器具：1.16kg、ﾗﾝﾌﾟ：0.27kg、安定器：4.0kg、合計：5.43kg",null,1100,null,"水銀灯400ｸﾗｽ 高天井用LED器具\n中角(65度) 初期照度補正形","MTE17ANN-J14B","MTE11ANNJ14B",null,151800,null,94.4,84.8,60000,17000,180,3.2,"平均消費電力"]
["水銀灯400W 高天井用器具\n(LED広角・初期照度補正形と比較)","MK4011+MSN406+HF400X+4MHC25/26","MK4011_HF400X_MJ",null,"MK4011+MSN406","(HF400X)","4MHC25/26",8500,5850,20600,34950,415,12000,22000,53.012048192771083,5.43,0.46,0.7,0.27,4,"器具：1.16kg、ﾗﾝﾌﾟ：0.27kg、安定器：4.0kg、合計：5.43kg",null,1100,null,"水銀灯400ｸﾗｽ 高天井用LED器具\n広角(90度) 初期照度補正形","MTE17AMN-J14B","MTE11AMNJ14B",null,151800,null,94.4,84.8,60000,17000,180,3.2,"平均消費電力"]
["水銀灯400W 高天井用器具\n(LED特広角・初期照度補正形と比較)","MK4011+MSN406+HF400X+4MHC25/26","MK4011_HF400X_WJ",null,"MK4011+MSN406","(HF400X)","4MHC25/26",8500,5850,20600,34950,415,12000,22000,53.012048192771083,5.43,0.46,0.7,0.27,4,"器具：1.16kg、ﾗﾝﾌﾟ：0.27kg、安定器：4.0kg、合計：5.43kg",null,1100,null,"水銀灯400ｸﾗｽ 高天井用LED器具\n特広角(120度) 初期照度補正形","MTE17AWN-J14B","MTE11AWNJ14B",null,151800,null,94.4,84.8,60000,18000,190.6,3,"平均消費電力"]
["ﾒﾀﾙﾊﾗｲﾄﾞﾗﾝﾌﾟ400W 高天井用器具\n(LED中角・初期照度補正形と比較)","MK4011+MSN406+MF400L-B/BU-P+4MHC25/26","MK4011_MF400LB_NJ",null,"MK4011+MSN406","(MF400L-B/BU-P)","4MHC25/26",8500,13300,20600,42400,415,12000,42000,101.20481927710843,{"$f":"SUM(Q11:T11)","v":5.43},0.46,0.7,0.27,4,"器具：1.16kg、ﾗﾝﾌﾟ：0.27kg、安定器：4.0kg、合計：5.43kg",null,1100,null,"ﾒﾀﾙﾊﾗｲﾄﾞﾗﾝﾌﾟ400ｸﾗｽ 高天井用LED器具\n中角(65度) 初期照度補正形","MTE22ANN-J14B","MTE11ANNJ14B",null,196700,null,119.1,107,60000,21000,176.3,3.4,"平均消費電力"]
["ﾒﾀﾙﾊﾗｲﾄﾞﾗﾝﾌﾟ400W 高天井用器具\n(LED広角・初期照度補正形と比較)","MK4011+MSN406+MF400L-B/BU-P+4MHC25/26","MK4011_MF400LB_MJ",null,"MK4011+MSN406","(MF400L-B/BU-P)","4MHC25/26",8500,13300,20600,42400,415,12000,42000,101.20481927710843,5.43,0.46,0.7,0.27,4,"器具：1.16kg、ﾗﾝﾌﾟ：0.27kg、安定器：4.0kg、合計：5.43kg",null,1100,null,"ﾒﾀﾙﾊﾗｲﾄﾞﾗﾝﾌﾟ400ｸﾗｽ 高天井用LED器具\n特広角(120度) 初期照度補正形","MTE22AMN-J14B","MTE11AMNJ14B",null,196700,null,119.1,107,60000,21000,176.3,3.4,"平均消費電力"]
["ﾒﾀﾙﾊﾗｲﾄﾞﾗﾝﾌﾟ400W 高天井用器具\n(LED特広角・初期照度補正形と比較)","MK4011+MSN406+MF400L-B/BU-P+4MHC25/26","MK4011_MF400LB_MJ",null,"MK4011+MSN406","(MF400L-B/BU-P)","4MHC25/26",8500,13300,20600,{"$f":"SUM(H13:J13)","v":42400},415,12000,42000,{"$f":"N13/L13","v":101.20481927710843},{"$f":"SUM(Q13:T13)","v":5.43},0.46,0.7,0.27,4,"器具：1.16kg、ﾗﾝﾌﾟ：0.27kg、安定器：4.0kg、合計：5.43kg",null,1100,null,"ﾒﾀﾙﾊﾗｲﾄﾞﾗﾝﾌﾟ400ｸﾗｽ 高天井用LED器具\n広角(90度) 初期照度補正形","MTE22AWN-J14B","MTE11AWNJ14B",null,196700,null,119.1,107,60000,22500,{"$f":"ROUNDDOWN(AH13/AE13,1)","v":188.9},3.2,"平均消費電力"]
["水銀灯700W 高天井用器具\n(LED中角・初期照度補正形と比較)","MK10011+MSN406+HF700X+7MHC25/26","MK10011_HF700X_NJ",null,"MK10011+MSN406","(HF700X)","7MHC25/26",13400,10300,32400,56100,745,12000,41000,55.033557046979865,{"$f":"SUM(Q14:T14)","v":9.0599999999999987},0.82,0.7,0.44,7.1,"器具：1.52kg、ﾗﾝﾌﾟ：0.44kg、安定器：7.1kg、合計：9.06kg",null,1100,null,"水銀灯700ｸﾗｽ 高天井用LED器具\n中角(65度) 初期照度補正形","MTE28BNN-J24A","MTE28BNNJ24A",null,218500,null,145,130.30000000000001,60000,26500,182.7,6.6,"平均消費電力"]
["水銀灯700W 高天井用器具\n(LED広角・初期照度補正形と比較)","MK10011+MSN406+HF700X+7MHC25/26","MK10011_HF700X_MJ",null,"MK10011+MSN406","(HF700X)","7MHC25/26",13400,10300,32400,56100,745,12000,41000,55.033557046979865,9.0599999999999987,0.82,0.7,0.44,7.1,"器具：1.52kg、ﾗﾝﾌﾟ：0.44kg、安定器：7.1kg、合計：9.06kg",null,1100,null,"水銀灯700ｸﾗｽ 高天井用LED器具\n広角(90度) 初期照度補正形","MTE28BMN-J24A","MTE28BMNJ24A",null,218500,null,145,130.30000000000001,60000,26500,182.7,6.6,"平均消費電力"]
["ﾒﾀﾙﾊﾗｲﾄﾞﾗﾝﾌﾟ700W 高天井用器具\n(LED中角・初期照度補正形と比較)","MK10011+MSN406+MF700L-C/BU+7MHC25/26","MK10011_MF700L_NJ",null,"MK10011+MSN406","(MF700L-C/BU)","7MHC25/26",13400,21900,32400,67700,745,12000,70000,93.959731543624159,{"$f":"SUM(Q16:T16)","v":9.1},0.82,0.7,0.48,7.1,"器具：1.52kg、ﾗﾝﾌﾟ：0.48kg、安定器：7.1kg、合計：9.1kg",null,1100,null,"ﾒﾀﾙﾊﾗｲﾄﾞﾗﾝﾌﾟ700ｸﾗｽ 高天井用LED器具\n中角(65度) 初期照度補正形","MTE34BNN-J24A","MTE28BNNJ24A",null,258800,null,185.5,166.7,60000,33700,181.6,6.9,"平均消費電力"]
["ﾒﾀﾙﾊﾗｲﾄﾞﾗﾝﾌﾟ700W 高天井用器具\n(LED広角・初期照度補正形と比較)","MK10011+MSN406+MF700L-C/BU+7MHC25/26","MK10011_MF700L_MJ",null,"MK10011+MSN406","(MF700L-C/BU)","7MHC25/26",13400,21900,32400,67700,745,12000,70000,93.959731543624159,9.1,0.82,0.7,0.48,7.1,"器具：1.52kg、ﾗﾝﾌﾟ：0.48kg、安定器：7.1kg、合計：9.1kg",null,1100,null,"ﾒﾀﾙﾊﾗｲﾄﾞﾗﾝﾌﾟ700ｸﾗｽ 高天井用LED器具\n広角(90度) 初期照度補正形","MTE34BMN-J24A","MTE28BMNJ24A",null,258800,null,185.5,166.7,60000,33700,181.6,6.9,"平均消費電力"]
["ﾒﾀﾙﾊﾗｲﾄﾞﾗﾝﾌﾟ1000W 高天井用器具\n(LED中角・初期照度補正形と比較)","MK10011+MSN406+MF1000L-C/BU+10MHC25/26","MK10011_MF1000LC_NJ",null,"MK10011+MSN406","(MF1000L-C/BU)","10MHC25/26",13400,28600,39500,81500,1050,12000,96000,91.428571428571431,{"$f":"SUM(Q18:T18)","v":11.01},0.82,0.7,0.59,8.9,"器具：1.52kg、ﾗﾝﾌﾟ：0.59kg、安定器：8.9kg、合計：11.01kg",null,1100,null,"ﾒﾀﾙﾊﾗｲﾄﾞﾗﾝﾌﾟ1000ｸﾗｽ 高天井用LED器具\n中角(65度) 初期照度補正形","MTE44BNN-J24A","MTE44BNNJ24A",null,384100,null,238.5,214.5,60000,42500,178.1,6.9,"平均消費電力"]
["ﾒﾀﾙﾊﾗｲﾄﾞﾗﾝﾌﾟ1000W 高天井用器具\n(LED広角・初期照度補正形と比較)","MK10011+MSN406+MF1000L-C/BU+10MHC25/26","MK10011_MF1000LC_MJ",null,"MK10011+MSN406","(MF1000L-C/BU)","10MHC25/26",13400,28600,39500,81500,1050,12000,96000,91.428571428571431,11.01,0.82,0.7,0.59,8.9,"器具：1.52kg、ﾗﾝﾌﾟ：0.59kg、安定器：8.9kg、合計：11.01kg",null,1100,null,"ﾒﾀﾙﾊﾗｲﾄﾞﾗﾝﾌﾟ1000ｸﾗｽ 高天井用LED器具\n広角(90度) 初期照度補正形","MTE44BMN-J24A","MTE44BMNJ24A",null,384100,null,238.5,214.5,60000,42500,178.1,6.9,"平均消費電力"]
[]
[null,null,null,null,null,null,null,null,null,null,null,null,null,null,"＜質量＞"]
["☆2019年4月版：MF700クラスを追加水銀700・1000クラス価格改定",null,null,null,null,null,null,null,null,null,null,null,null,null,"MK4011",0.46]
[null,null,null,null,null,null,null,null,null,null,null,null,null,null,"MK10011",0.82]
[null,null,null,null,null,null,null,null,null,null,null,null,null,null,"MSN406",0.7]
[null,null,null,null,null,null,null,null,null,null,null,null,null,null,"2.5MHC25",3.1]
[null,null,null,null,null,null,null,null,null,null,null,null,null,null,"4MHC25",4]
[null,null,null,null,null,null,null,null,null,null,null,null,null,null,"7MHC25",7.1]
[null,null,null,null,null,null,null,null,null,null,null,null,null,null,"10MHC25",8.9]
[null,null,null,null,null,null,null,null,null,null,null,null,null,null,"HF250X",0.2]
[null,null,null,null,null,null,null,null,null,null,null,null,null,null,"HF400X",0.27]
[null,null,null,null,null,null,null,null,null,null,null,null,null,null,"HF700X",0.44]
[null,null,null,null,null,null,null,null,null,null,null,null,null,null,"HF1000X",0.56000000000000005]
[null,null,null,null,null,null,null,null,null,null,null,null,null,null,"MF400L-B",0.27]
[null,null,null,null,null,null,null,null,null,null,null,null,null,null,"MF1000L-C",0.59]

{"sheet":"ｸﾞﾗﾌ","index":2,"n_rows":5,"n_cols":17,"rows_kept":5,"cut":false,"hidden":true,"merged":[]}
[]
[]
["使用年数",0,1,2,3,4,5,6,7,8,9,10,11,12,13,14,15]
["従来",0,{"$f":"IF(高天井用LED!$C39=\"\",\"\",B4+高天井用LED!$C39/10000)","v":2.1840000000000002},{"$f":"IF(高天井用LED!$C39=\"\",\"\",C4+高天井用LED!$C39/10000)","v":4.3680000000000003},{"$f":"IF(高天井用LED!$C39=\"\",\"\",D4+高天井用LED!$C39/10000)","v":6.5520000000000005},{"$f":"IF(高天井用LED!$C39=\"\",\"\",E4+高天井用LED!$C39/10000)","v":8.7360000000000007},{"$f":"IF(高天井用LED!$C39=\"\",\"\",F4+高天井用LED!$C39/10000)","v":10.920000000000002},{"$f":"IF(高天井用LED!$C39=\"\",\"\",G4+高天井用LED!$C39/10000)","v":13.104000000000003},{"$f":"IF(高天井用LED!$C39=\"\",\"\",H4+高天井用LED!$C39/10000)","v":15.288000000000004},{"$f":"IF(高天井用LED!$C39=\"\",\"\",I4+高天井用LED!$C39/10000)","v":17.472000000000005},{"$f":"IF(高天井用LED!$C39=\"\",\"\",J4+高天井用LED!$C39/10000)","v":19.656000000000006},{"$f":"IF(高天井用LED!$C39=\"\",\"\",K4+高天井用LED!$C39/10000)","v":21.840000000000007},{"$f":"IF(高天井用LED!$C39=\"\",\"\",L4+高天井用LED!$C39/10000)","v":24.024000000000008},{"$f":"IF(高天井用LED!$C39=\"\",\"\",M4+高天井用LED!$C39/10000)","v":26.208000000000009},{"$f":"IF(高天井用LED!$C39=\"\",\"\",N4+高天井用LED!$C39/10000)","v":28.39200000000001},{"$f":"IF(高天井用LED!$C39=\"\",\"\",O4+高天井用LED!$C39/10000)","v":30.576000000000011},{"$f":"IF(高天井用LED!$C39=\"\",\"\",P4+高天井用LED!$C39/10000)","v":32.760000000000012}]
["LED",{"$f":"IF(高天井用LED!I41=\"\",\"\",高天井用LED!I41/10000)","v":10.94},{"$f":"IF(高天井用LED!$I39=\"\",\"\",B5+高天井用LED!$I39/10000)","v":11.418799999999999},{"$f":"IF(高天井用LED!$I39=\"\",\"\",C5+高天井用LED!$I39/10000)","v":11.897599999999999},{"$f":"IF(高天井用LED!$I39=\"\",\"\",D5+高天井用LED!$I39/10000)","v":12.376399999999999},{"$f":"IF(高天井用LED!$I39=\"\",\"\",E5+高天井用LED!$I39/10000)","v":12.855199999999998},{"$f":"IF(高天井用LED!$I39=\"\",\"\",F5+高天井用LED!$I39/10000)","v":13.333999999999998},{"$f":"IF(高天井用LED!$I39=\"\",\"\",G5+高天井用LED!$I39/10000)","v":13.812799999999998},{"$f":"IF(高天井用LED!$I39=\"\",\"\",H5+高天井用LED!$I39/10000)","v":14.291599999999997},{"$f":"IF(高天井用LED!$I39=\"\",\"\",I5+高天井用LED!$I39/10000)","v":14.770399999999997},{"$f":"IF(高天井用LED!$I39=\"\",\"\",J5+高天井用LED!$I39/10000)","v":15.249199999999997},{"$f":"IF(高天井用LED!$I39=\"\",\"\",K5+高天井用LED!$I39/10000)","v":15.727999999999996},{"$f":"IF(高天井用LED!$I39=\"\",\"\",L5+高天井用LED!$I39/10000)","v":16.206799999999998},{"$f":"IF(高天井用LED!$I39=\"\",\"\",M5+高天井用LED!$I39/10000)","v":16.685599999999997},{"$f":"IF(高天井用LED!$I39=\"\",\"\",N5+高天井用LED!$I39/10000)","v":17.164399999999997},{"$f":"IF(高天井用LED!$I39=\"\",\"\",O5+高天井用LED!$I39/10000)","v":17.643199999999997},{"$f":"IF(高天井用LED!$I39=\"\",\"\",P5+高天井用LED!$I39/10000)","v":18.121999999999996}]